BEGIN:VCALENDAR
VERSION:2.0
PRODID:-//Tukios.com/
BEGIN:VEVENT
UID:7942b652-f56a-4894-a936-3d122cc6edb8@www.troutmanfuneralhome.com
DTSTAMP:20260424T230908Z
DTSTART:20260427T150000Z
DTEND:20260427T160000Z
SUMMARY:Graveside Service
DESCRIPTION:
URL:https://www.troutmanfuneralhome.com/obituaries/sylvia-shumake
LOCATION:Iredell Memorial Park 2304 Shelton Ave  Statesville NC 28677
GEO:35.7397854;-80.8993417
END:VEVENT
END:VCALENDAR