BEGIN:VCALENDAR
VERSION:2.0
PRODID:-//Tukios.com/
BEGIN:VEVENT
UID:c3356ab6-a390-436a-95fe-a697c74d82c3@www.troutmanfuneralhome.com
DTSTAMP:20260423T190502Z
DTSTART:20260429T190000Z
DTEND:20260429T200000Z
SUMMARY:Funeral Service
DESCRIPTION:
URL:https://www.troutmanfuneralhome.com/obituaries/robert-moore
LOCATION:Wesley Memorial United Methodist Church 825 Wesley Drive  
	Statesville NC 28677
GEO:35.7998136;-80.8874565
END:VEVENT
END:VCALENDAR