BEGIN:VCALENDAR
VERSION:2.0
PRODID:-//Tukios.com/
BEGIN:VEVENT
UID:d9ab786b-a0d9-4c41-a258-8c364c17e7e8@www.troutmanfuneralhome.com
DTSTAMP:20260423T190638Z
DTSTART:20260428T210000Z
DTEND:20260428T230000Z
SUMMARY:Visitation
DESCRIPTION:
URL:https://www.troutmanfuneralhome.com/obituaries/robert-moore
LOCATION:Troutman Funeral Home 345 N Main St  Troutman NC 28166
GEO:35.7061979;-80.8928754
END:VEVENT
END:VCALENDAR