BEGIN:VCALENDAR
VERSION:2.0
PRODID:-//Tukios.com/
BEGIN:VEVENT
UID:3e969d08-1a83-44b5-883a-d700cba95806@www.troutmanfuneralhome.com
DTSTAMP:20260424T182340Z
DTSTART:20260426T200000Z
DTEND:20260426T210000Z
SUMMARY:Graveside Service
DESCRIPTION:
URL:https://www.troutmanfuneralhome.com/obituaries/colene-mullis
LOCATION:Pleasant Hill Baptist Church graveyard 31 Pleasant Hill Church 
	Rd  Taylorsville NC 28681
GEO:35.989576;-81.1523749
END:VEVENT
END:VCALENDAR